BEGIN:VCALENDAR
VERSION:2.0
PRODID:-//Super Fun Activities Club - ECPv6.14.2//NONSGML v1.0//EN
CALSCALE:GREGORIAN
METHOD:PUBLISH
X-WR-CALNAME:Super Fun Activities Club
X-ORIGINAL-URL:https://superfunactivitiesclub.com
X-WR-CALDESC:Events for Super Fun Activities Club
REFRESH-INTERVAL;VALUE=DURATION:PT1H
X-Robots-Tag:noindex
X-PUBLISHED-TTL:PT1H
BEGIN:VTIMEZONE
TZID:America/New_York
BEGIN:DAYLIGHT
TZOFFSETFROM:-0500
TZOFFSETTO:-0400
TZNAME:EDT
DTSTART:20210314T070000
END:DAYLIGHT
BEGIN:STANDARD
TZOFFSETFROM:-0400
TZOFFSETTO:-0500
TZNAME:EST
DTSTART:20211107T060000
END:STANDARD
BEGIN:DAYLIGHT
TZOFFSETFROM:-0500
TZOFFSETTO:-0400
TZNAME:EDT
DTSTART:20220313T070000
END:DAYLIGHT
BEGIN:STANDARD
TZOFFSETFROM:-0400
TZOFFSETTO:-0500
TZNAME:EST
DTSTART:20221106T060000
END:STANDARD
BEGIN:DAYLIGHT
TZOFFSETFROM:-0500
TZOFFSETTO:-0400
TZNAME:EDT
DTSTART:20230312T070000
END:DAYLIGHT
BEGIN:STANDARD
TZOFFSETFROM:-0400
TZOFFSETTO:-0500
TZNAME:EST
DTSTART:20231105T060000
END:STANDARD
BEGIN:DAYLIGHT
TZOFFSETFROM:-0500
TZOFFSETTO:-0400
TZNAME:EDT
DTSTART:20240310T070000
END:DAYLIGHT
BEGIN:STANDARD
TZOFFSETFROM:-0400
TZOFFSETTO:-0500
TZNAME:EST
DTSTART:20241103T060000
END:STANDARD
BEGIN:DAYLIGHT
TZOFFSETFROM:-0500
TZOFFSETTO:-0400
TZNAME:EDT
DTSTART:20250309T070000
END:DAYLIGHT
BEGIN:STANDARD
TZOFFSETFROM:-0400
TZOFFSETTO:-0500
TZNAME:EST
DTSTART:20251102T060000
END:STANDARD
END:VTIMEZONE
BEGIN:VEVENT
DTSTART;TZID=America/New_York:20250107T190000
DTEND;TZID=America/New_York:20250107T210000
DTSTAMP:20260421T081339
CREATED:20241112T221434Z
LAST-MODIFIED:20250107T071123Z
UID:10002769-1736276400-1736283600@superfunactivitiesclub.com
SUMMARY:Tuesday Soccer - New Year 2025 - Registration
DESCRIPTION:Tuesday Soccer – New Year 2025 – Cranston\nPlayer Cost:\n$79\nTeam Cost:\n$608 (register with Venmo\, or buy a team registration ticket below on this page) (if you don’t have the Venmo ID\, just shoot us a message)\nWhen registering a team\, please provide us with your email so we can send you a Google Drive document for your roster.  Thanks! \nRegistration Deadline:\nLate Registering \nLocation:\nCranston YMCA\n1225 Park Ave\nCranston\, RI 02910 \nStatus:\nLate Registering \nGame Days: Tuesdays\nStart Date: 1/7\nEnd Date: 2/25\nGame Times: 7:00 – 9:00 (game times are subject to change) \nWe will not be doing team shirts for indoor sports in an attempt to keep activities as affordable as possible. \nAll registrations are final sales.  There are no refunds given under any circumstance.
URL:https://superfunactivitiesclub.com/event/tuesday-soccer-new-year-2025-registration/
LOCATION:Cranston YMCA\, 1225 Park Ave\, Cranston\, RI\, 02910
END:VEVENT
BEGIN:VEVENT
DTSTART;TZID=America/New_York:20241029T190000
DTEND;TZID=America/New_York:20241029T210000
DTSTAMP:20260421T081339
CREATED:20240916T171718Z
LAST-MODIFIED:20241022T165659Z
UID:10002432-1730228400-1730235600@superfunactivitiesclub.com
SUMMARY:Tuesday Soccer - Indoor Fall 2024 - Registration
DESCRIPTION:Tuesday Soccer – Indoor Fall 2024 – Cranston\nPlayer Cost:\n$79\nTeam Cost:\n$528 (register with Venmo\, or buy a team registration ticket below on this page) (if you don’t have the Venmo ID\, just shoot us a message)\nWhen registering a team\, please provide us with your email so we can send you a Google Drive document for your roster.  Thanks! \nRegistration Deadline:\nLate Registering \nLocation:\nCranston YMCA\n1225 Park Ave\nCranston\, RI 02910 \nStatus:\nLate Registering \nGame Days: Tuesdays\nStart Date: 10/29\nEnd Date: 12/10\nGame Times: 7:00 – 9:00 (game times are subject to change) \nWe will not be doing team shirts for indoor sports in an attempt to keep activities as affordable as possible. \nAll registrations are final sales.  There are no refunds given under any circumstance.
URL:https://superfunactivitiesclub.com/event/tuesday-soccer-indoor-fall-2024-registration/
LOCATION:Cranston YMCA\, 1225 Park Ave\, Cranston\, RI\, 02910
END:VEVENT
BEGIN:VEVENT
DTSTART;TZID=America/New_York:20240312T190000
DTEND;TZID=America/New_York:20240312T210000
DTSTAMP:20260421T081339
CREATED:20240118T203014Z
LAST-MODIFIED:20240319T154349Z
UID:10002712-1710270000-1710277200@superfunactivitiesclub.com
SUMMARY:Tuesday Soccer - Indoor Spring 2024 - Registration
DESCRIPTION:Tuesday Soccer – Indoor Spring 2024 – Cranston\nPlayer Cost:\n$70\nTeam Cost:\n$528 (register with Venmo\, or buy a team registration ticket below on this page) (if you don’t have the Venmo ID\, just shoot us a message)\nWhen registering a team\, please provide us with your email so we can send you a Google Drive document for your roster.  Thanks! \nRegistration Deadline:\nLate Registering \nLocation:\nCranston YMCA\n1225 Park Ave\nCranston\, RI 02910 \nStatus:\nLate Registering \nGame Days: Tuesdays\nStart Date: 3/12\nEnd Date: 4/23\nGame Times: 7:00 – 9:00 (game times subject to change) \nWe will not be doing team shirts for indoor sports in an attempt to keep activities as affordable as possible.  On Week 1\, please bring a white shirt and a dark colored shirt.  If you’re an existing team\, please coordinate to wear the same colored team shirts. \nAll registrations are final sales.  There are no refunds given under any circumstance.
URL:https://superfunactivitiesclub.com/event/tuesday-soccer-indoor-spring-2024-registration/
LOCATION:Cranston YMCA\, 1225 Park Ave\, Cranston\, RI\, 02910
END:VEVENT
BEGIN:VEVENT
DTSTART;TZID=America/New_York:20240109T190000
DTEND;TZID=America/New_York:20240109T210000
DTSTAMP:20260421T081339
CREATED:20231106T181242Z
LAST-MODIFIED:20240108T161752Z
UID:10002700-1704826800-1704834000@superfunactivitiesclub.com
SUMMARY:Tuesday Soccer - New Year 2024 - Registration
DESCRIPTION:Tuesday Soccer – New Year 2024 – Cranston\nPlayer Cost:\n$79\nTeam Cost:\n$528 (register with Venmo\, or buy a team registration ticket below on this page) (if you don’t have the Venmo ID\, just shoot us a message)\nWhen registering a team\, please provide us with your email so we can send you a Google Drive document for your roster.  Thanks! \nRegistration Deadline:\nLate Registering \nLocation:\nCranston YMCA\n1225 Park Ave\nCranston\, RI 02910 \nStatus:\nLate Registering \nGame Days: Tuesdays\nStart Date: 1/9\nEnd Date: 2/27\nGame Times: 7:00 – 9:00 (game times subject to change) \nWe will not be doing team shirts for indoor sports in an attempt to keep activities as affordable as possible.  On Week 1\, please bring a white shirt and a dark colored shirt.  If you’re an existing team\, please coordinate to wear the same colored team shirts. \nAll registrations are final sales.  There are no refunds given under any circumstance.
URL:https://superfunactivitiesclub.com/event/tuesday-soccer-new-year-2024-registration/
LOCATION:Cranston YMCA\, 1225 Park Ave\, Cranston\, RI\, 02910
END:VEVENT
BEGIN:VEVENT
DTSTART;TZID=America/New_York:20231024T190000
DTEND;TZID=America/New_York:20231024T210000
DTSTAMP:20260421T081339
CREATED:20230913T192853Z
LAST-MODIFIED:20231031T153319Z
UID:10002693-1698174000-1698181200@superfunactivitiesclub.com
SUMMARY:Tuesday Soccer - Indoor Fall 2023 - Registration
DESCRIPTION:Tuesday Soccer – Indoor Fall 2023 – Cranston\nPlayer Cost:\n$79\nTeam Cost:\n$528 (register with Venmo\, or buy a team registration ticket below on this page) (if you don’t have the Venmo ID\, just shoot us a message)\nWhen registering a team\, please provide us with your email so we can send you a Google Drive document for your roster.  Thanks! \nRegistration Deadline:\n10/16 (Now Late Registering) \nLocation:\nCranston YMCA\n1225 Park Ave\nCranston\, RI 02910 \nStatus:\nLate Registering \nGame Days: Tuesdays\nStart Date: 10/31\nEnd Date: 12/12\nGame Times: 7:00 – 9:00 (game times subject to change) \nWe will not be doing team shirts for indoor sports in an attempt to keep activities as affordable as possible. \nAll registrations are final sales.  There are no refunds given under any circumstance.
URL:https://superfunactivitiesclub.com/event/tuesday-soccer-indoor-fall-2023-registration/
LOCATION:Cranston YMCA\, 1225 Park Ave\, Cranston\, RI\, 02910
END:VEVENT
BEGIN:VEVENT
DTSTART;TZID=America/New_York:20230313T190000
DTEND;TZID=America/New_York:20230424T210000
DTSTAMP:20260421T081339
CREATED:20230117T221010Z
LAST-MODIFIED:20230224T163136Z
UID:10002666-1678734000-1682370000@superfunactivitiesclub.com
SUMMARY:Monday Soccer - Indoor Spring 2023 - Registration
DESCRIPTION:Monday Soccer – New Year 2023 – Cranston\nPlayer Cost:\n$59\nTeam Cost:\n$448 (register with Venmo to avoid team transaction fee)(message us if you don’t already have the Venmo ID)\nWhen registering a team\, please provide us with your email so we can send you a Google Drive document for your roster.  Thanks! \nRegistration Deadline:\nWhen the league sells out\, registration will be closed \nLocation:\nCranston YMCA\n1225 Park Ave\nCranston\, RI 02910 \nStatus:\nNow Registering \nGame Days: Mondays\nStart Date: 3/13\nEnd Date: 4/24\nGame Times: 7:00 – 9:00 \nWe will not be doing team shirts for indoor sports in an attempt to keep activities as affordable as possible. \nAll registrations are final sales.  There are no refunds given under any circumstance.
URL:https://superfunactivitiesclub.com/event/monday-soccer-indoor-spring-2023-registration/
LOCATION:Cranston YMCA\, 1225 Park Ave\, Cranston\, RI\, 02910
END:VEVENT
BEGIN:VEVENT
DTSTART;TZID=America/New_York:20230109T190000
DTEND;TZID=America/New_York:20230306T210000
DTSTAMP:20260421T081339
CREATED:20221109T214747Z
LAST-MODIFIED:20230105T182136Z
UID:10002665-1673290800-1678136400@superfunactivitiesclub.com
SUMMARY:Monday Soccer - New Year 2023 - Registration
DESCRIPTION:Monday Soccer – New Year 2023 – Cranston\nPlayer Cost:\n$69\nTeam Cost:\n$528 (register with Venmo to avoid team transaction fee)(message us if you don’t already have the Venmo ID)\nWhen registering a team\, please provide us with your email so we can send you a Google Drive document for your roster.  Thanks! \nRegistration Deadline:\nWhen the league sells out\, registration will be closed \nLocation:\nCranston YMCA\n1225 Park Ave\nCranston\, RI 02910 \nStatus:\nNow Registering \nGame Days: Mondays\nStart Date: 1/9\nEnd Date: 3/6\nGame Times: 7:00 – 9:00 \nWe will not be doing team shirts for indoor sports in an attempt to keep activities as affordable as possible. \nAll registrations are final sales.  There are no refunds given under any circumstance.
URL:https://superfunactivitiesclub.com/event/monday-soccer-new-year-2023-registration/
LOCATION:Cranston YMCA\, 1225 Park Ave\, Cranston\, RI\, 02910
END:VEVENT
BEGIN:VEVENT
DTSTART;TZID=America/New_York:20221031T190000
DTEND;TZID=America/New_York:20221212T210000
DTSTAMP:20260421T081339
CREATED:20221001T181829Z
LAST-MODIFIED:20221031T015820Z
UID:10002659-1667242800-1670878800@superfunactivitiesclub.com
SUMMARY:Monday Soccer - Indoor Fall 2022 - Registration
DESCRIPTION:Monday Soccer – Indoor Fall 2022 – Cranston\nPlayer Cost:\n$69\nTeam Cost:\n$528 (register with Venmo to avoid team transaction fee)(message us if you don’t already have the Venmo ID)\nWhen registering a team\, please provide us with your email so we can send you a Google Drive document for your roster.  Thanks! \nRegistration Deadline:\nWhen the league sells out\, registration will be closed \nLocation:\nCranston YMCA\n1225 Park Ave\nCranston\, RI 02910 \nStatus:\nNow Registering \nGame Days: Mondays\nStart Date: 10/31\nEnd Date: 12/12\nGame Times: 7:00 – 9:00 \nWe will not be doing team shirts for indoor sports in an attempt to keep activities as affordable as possible. \nAll registrations are final sales.  There are no refunds given under any circumstance.
URL:https://superfunactivitiesclub.com/event/monday-soccer-indoor-fall-2022-registration/
LOCATION:Cranston YMCA\, 1225 Park Ave\, Cranston\, RI\, 02910
END:VEVENT
BEGIN:VEVENT
DTSTART;TZID=America/New_York:20220314T200000
DTEND;TZID=America/New_York:20220314T213000
DTSTAMP:20260421T081339
CREATED:20220221T192448Z
LAST-MODIFIED:20220314T021335Z
UID:10002628-1647288000-1647293400@superfunactivitiesclub.com
SUMMARY:Monday Soccer - Indoor Spring 2022 - Registration
DESCRIPTION:Monday Soccer – Indoor Spring 2022 – Registration\n\nSFAC Soccer – For Fun People Only!\n\nLooking for Full Teams – Small Groups – Individual players!\n\nThe Super Fun Activities Club runs the most Fun adult social sports leagues around and it’s not even close  This Monday night indoor soccer league runs from 3/14 – 4/25.\n\nPlease note\, this is for fun people only! Play hard\, play fair\, and have some fun! If you haven’t played in awhile (or ever)\, or you’re just looking to get out and meet some people\, this is a great league for you! If you like to throw elbows\, argue\, or are just a general pain in the ass that complains a lot\, this probably isn’t the right fit…\nWe will determine the format for the games based on how many teams we have register.  The plan is to play a round robin format where teams get to play multiple opponents every night with a ton of action and variety! \nWhen registering below\, please note if you would like to be paired with anyone else (so you’re kept on the same team).  Or you have the option of registering as a full team. \nGames will be played 5v5\nTeam rosters should have 8 players.\nThere are no gender requirements.  Just be good humans.
URL:https://superfunactivitiesclub.com/event/monday-soccer-indoor-spring-2022-registration/
LOCATION:Cranston YMCA\, 1225 Park Ave\, Cranston\, RI\, 02910
END:VEVENT
BEGIN:VEVENT
DTSTART;TZID=America/New_York:20220110T190000
DTEND;TZID=America/New_York:20220110T210000
DTSTAMP:20260421T081339
CREATED:20211222T181028Z
LAST-MODIFIED:20220112T213737Z
UID:10002624-1641841200-1641848400@superfunactivitiesclub.com
SUMMARY:Monday Soccer - Indoor New Year 2022 - Registration
DESCRIPTION:Monday Soccer – Indoor New Year 2022 – Registration\n\nSFAC Soccer – For Fun People Only!\n\nLooking for Full Teams – Small Groups – Individual players!\n\nThe Super Fun Activities Club runs the most Fun adult social sports leagues around and it’s not even close  This Monday night indoor soccer league runs from 1/10 – 3/7.\n\nPlease note\, this is for fun people only! Play hard\, play fair\, and have some fun! If you haven’t played in awhile (or ever)\, or you’re just looking to get out and meet some people\, this is a great league for you! If you like to throw elbows\, argue\, or are just a general pain in the ass that complains a lot\, this probably isn’t the right fit…\nWe will determine the format for the games based on how many teams we have register.  The plan is to play a round robin format where teams get to play multiple opponents every night with a ton of action and variety! \nWhen registering below\, please note if you would like to be paired with anyone else (so you’re kept on the same team).  Or you have the option of registering as a full team. \nGames will be played 5v5\nTeam rosters should have 8 players.\nThere are no gender requirements.  Just be good humans. \nAll State and YMCA protocols regarding Covid-19 will be followed.
URL:https://superfunactivitiesclub.com/event/monday-soccer-indoor-new-year-2022-registration/
LOCATION:Cranston YMCA\, 1225 Park Ave\, Cranston\, RI\, 02910
END:VEVENT
BEGIN:VEVENT
DTSTART;TZID=America/New_York:20211115T190000
DTEND;TZID=America/New_York:20211115T200000
DTSTAMP:20260421T081339
CREATED:20211108T163230Z
LAST-MODIFIED:20211108T163230Z
UID:10002312-1637002800-1637006400@superfunactivitiesclub.com
SUMMARY:Monday Indoor Fall Soccer Registration
DESCRIPTION:SFAC Soccer – For Fun People Only!\n\nLooking for Full Teams – Small Groups – Individual players!\n\nThe Super Fun Activities Club runs the most Fun adult social sports leagues around and it’s not even close  This Monday night indoor soccer league runs from 11/15 – 12/13.\n\nPlease note\, this is for fun people only! Play hard\, play fair\, and have some fun! If you haven’t played in awhile (or ever)\, or you’re just looking to get out and meet some people\, this is a great league for you! If you like to throw elbows\, argue\, or are just a general pain in the ass that complains a lot\, this probably isn’t the right fit…\nWe will determine the format for the games based on how many teams we get.  The plan is to play a round robin format where teams get to play multiple opponents every night with a ton of action and variety! \nWhen registering below\, please note if you would like to be paired with anyone else (so you’re kept on the same team).  Or you have the option of registering as a full team. \nGames will be played 5v5\nTeam rosters should have 8 players.\nThere are no gender requirements.  Just be good humans.
URL:https://superfunactivitiesclub.com/event/monday-indoor-fall-soccer-registration/
LOCATION:Cranston YMCA\, 1225 Park Ave\, Cranston\, RI\, 02910
END:VEVENT
END:VCALENDAR